BEGIN:VCALENDAR
VERSION:2.0
PRODID:-//Burn Survivors of New England - ECPv6.15.20//NONSGML v1.0//EN
CALSCALE:GREGORIAN
METHOD:PUBLISH
X-ORIGINAL-URL:https://bsone.org
X-WR-CALDESC:Events for Burn Survivors of New England
REFRESH-INTERVAL;VALUE=DURATION:PT1H
X-Robots-Tag:noindex
X-PUBLISHED-TTL:PT1H
BEGIN:VTIMEZONE
TZID:America/New_York
BEGIN:DAYLIGHT
TZOFFSETFROM:-0500
TZOFFSETTO:-0400
TZNAME:EDT
DTSTART:20240310T070000
END:DAYLIGHT
BEGIN:STANDARD
TZOFFSETFROM:-0400
TZOFFSETTO:-0500
TZNAME:EST
DTSTART:20241103T060000
END:STANDARD
BEGIN:DAYLIGHT
TZOFFSETFROM:-0500
TZOFFSETTO:-0400
TZNAME:EDT
DTSTART:20250309T070000
END:DAYLIGHT
BEGIN:STANDARD
TZOFFSETFROM:-0400
TZOFFSETTO:-0500
TZNAME:EST
DTSTART:20251102T060000
END:STANDARD
BEGIN:DAYLIGHT
TZOFFSETFROM:-0500
TZOFFSETTO:-0400
TZNAME:EDT
DTSTART:20260308T070000
END:DAYLIGHT
BEGIN:STANDARD
TZOFFSETFROM:-0400
TZOFFSETTO:-0500
TZNAME:EST
DTSTART:20261101T060000
END:STANDARD
END:VTIMEZONE
BEGIN:VEVENT
DTSTART;VALUE=DATE:20250424
DTEND;VALUE=DATE:20250428
DTSTAMP:20260423T081342
CREATED:20250213T173019Z
LAST-MODIFIED:20251215T165554Z
UID:1016-1745452800-1745798399@bsone.org
SUMMARY:Shriners Circus 2025
DESCRIPTION:Doors Open 1 Hour Before Showtime! \nCome early and enjoy pre-circus activities\, including face-painting\, pony rides\, inflatables\, and other activities.  Enjoy circus food and get the best selection of show merchandise! \n 
URL:https://bsone.org/event/shriners-circus-2025/
LOCATION:Shriners Auditorium\, 99 Fordham Road\, Wilmington\, MA\, 01887\, United States
END:VEVENT
END:VCALENDAR