BEGIN:VCALENDAR
VERSION:2.0
PRODID:-//Burn Survivors of New England - ECPv6.15.20//NONSGML v1.0//EN
CALSCALE:GREGORIAN
METHOD:PUBLISH
X-WR-CALNAME:Burn Survivors of New England
X-ORIGINAL-URL:https://bsone.org
X-WR-CALDESC:Events for Burn Survivors of New England
REFRESH-INTERVAL;VALUE=DURATION:PT1H
X-Robots-Tag:noindex
X-PUBLISHED-TTL:PT1H
BEGIN:VTIMEZONE
TZID:America/New_York
BEGIN:DAYLIGHT
TZOFFSETFROM:-0500
TZOFFSETTO:-0400
TZNAME:EDT
DTSTART:20240310T070000
END:DAYLIGHT
BEGIN:STANDARD
TZOFFSETFROM:-0400
TZOFFSETTO:-0500
TZNAME:EST
DTSTART:20241103T060000
END:STANDARD
BEGIN:DAYLIGHT
TZOFFSETFROM:-0500
TZOFFSETTO:-0400
TZNAME:EDT
DTSTART:20250309T070000
END:DAYLIGHT
BEGIN:STANDARD
TZOFFSETFROM:-0400
TZOFFSETTO:-0500
TZNAME:EST
DTSTART:20251102T060000
END:STANDARD
BEGIN:DAYLIGHT
TZOFFSETFROM:-0500
TZOFFSETTO:-0400
TZNAME:EDT
DTSTART:20260308T070000
END:DAYLIGHT
BEGIN:STANDARD
TZOFFSETFROM:-0400
TZOFFSETTO:-0500
TZNAME:EST
DTSTART:20261101T060000
END:STANDARD
BEGIN:DAYLIGHT
TZOFFSETFROM:-0500
TZOFFSETTO:-0400
TZNAME:EDT
DTSTART:20270314T070000
END:DAYLIGHT
BEGIN:STANDARD
TZOFFSETFROM:-0400
TZOFFSETTO:-0500
TZNAME:EST
DTSTART:20271107T060000
END:STANDARD
END:VTIMEZONE
BEGIN:VEVENT
DTSTART;VALUE=DATE:20251112
DTEND;VALUE=DATE:20251115
DTSTAMP:20260425T115140
CREATED:20250122T140316Z
LAST-MODIFIED:20251215T165554Z
UID:524-1762905600-1763164799@bsone.org
SUMMARY:Phoenix World Burn Congress
DESCRIPTION:Visit the Phoenix Society for updates on registration and programming!
URL:https://bsone.org/event/phoenix-world-burn-congress/
LOCATION:Northern Kentucky Convention Center\, 1 W Rivercenter Blvd\, Covington\, KY\, 41011\, United States
END:VEVENT
BEGIN:VEVENT
DTSTART;TZID=America/New_York:20251220T170000
DTEND;TZID=America/New_York:20251220T230000
DTSTAMP:20260425T115140
CREATED:20250122T135046Z
LAST-MODIFIED:20251215T165554Z
UID:501-1766250000-1766271600@bsone.org
SUMMARY:Winter Gala 2025
DESCRIPTION:Saturday\, December 20\, 2025\nThe Westin Hotel Waltham Boston | 70 3rd Ave\, Waltham\, MA \nAbout the Event\nJoin us for a magical evening celebrating resilience\, hope\, and community at the Winter Gala 2025. This special charity event benefits Burn Survivors of New England (BSONE) and brings together inspiring stories\, uplifting performances\, and joyful holiday spirit. \n  \nGuests will enjoy: \n\nA moving address from BSONE President and Station Nightclub Fire survivor\, Gina Russo\nRemarks from Battalion Chief Steve DesRuisseaux\nPerformances from Step By Step Dance Studio and other local artists\nA live DJ\, exciting raffles\, and a special visit from the North Pole\n\n\nSchedule\n\nSponsor VIP Reception: 5:00 PM – 6:00 PM (sponsors and VIP guests only)\nGeneral Admission: Doors open at 6:30 PM\nShowtime: 7:00 PM\n\nPlease check your ticket type before attending to ensure you arrive at the correct time. General admission guests will not be admitted before 6:30 PM. \n  \nHotel Accommodations\nWe’ve reserved a block of rooms at The Westin Waltham Boston for Winter Gala guests. \n\nEvent Dates: Friday\, December 19 – Saturday\, December 20\, 2025\nBooking Deadline: November 19\, 2025\nPerks: Free parking and complimentary Wi-Fi\n\nReserve your room directly with the hotel: Book Your Room Here \nOr call the hotel at 781-290-5600 and mention “BSONE Winter Gala 2025.” \n  \nTickets\n\nGeneral Admission: $65 per person\nSponsor VIP Ticket (Reception + Show): $150 per person\n\nEach ticket purchase includes a partial charitable tax receipt. \n\nWhy Attend\nYour presence directly supports Burn Survivors of New England’s mission to provide vital peer support\, resources\, and community for burn survivors and their families. Together\, we can make a difference while celebrating the power of resilience. \n\nPurchase Tickets\nReserve your spot today and be part of this unforgettable evening.
URL:https://bsone.org/event/winter-gala-2025/
LOCATION:The Westin Waltham\, 70 3rd Ave\, Waltham\, MA\, 02451\, United States
ATTACH;FMTTYPE=image/png:https://bsone.org/launch/wp-content/uploads/2025/01/Winter-Gala-2.png
ORGANIZER;CN="Burn Survivors of New England":MAILTO:bsoneoffice@gmail.com
END:VEVENT
BEGIN:VEVENT
DTSTART;VALUE=DATE:20260814
DTEND;VALUE=DATE:20260816
DTSTAMP:20260425T115140
CREATED:20250122T135151Z
LAST-MODIFIED:20260129T174921Z
UID:503-1786665600-1786838399@bsone.org
SUMMARY:Burn Survivors of New England 2026 Healing Summit
DESCRIPTION:The Healing Summit 2026 is a two-day gathering designed to support life beyond survival — a space where burn survivors\, loved ones\, first responders\, and burn care professionals come together to explore what it truly means to heal\, grow\, and thrive after injury. \nHosted by Burn Survivors of New England\, the Healing Summit focuses on the long-term journey of recovery — not only physical healing\, but emotional well-being\, personal growth\, and meaningful connection. This summit is rooted in resilience\, shared experience\, and the belief that life after a burn can be full\, empowered\, and connected. \n [Register for the Healing Summit] \n [Find More Information Here]
URL:https://bsone.org/event/burn-survivors-of-new-england-2026-healing-summit/
LOCATION:The Westin Waltham\, 70 3rd Ave\, Waltham\, MA\, 02451\, United States
ORGANIZER;CN="Burn Survivors of New England":MAILTO:bsoneoffice@gmail.com
END:VEVENT
END:VCALENDAR